BEGIN:VCALENDAR
VERSION:2.0
PRODID:icalendar-ruby
CALSCALE:GREGORIAN
METHOD:PUBLISH
BEGIN:VEVENT
DTSTAMP:20260420T183316Z
UID:68-971627@watersedge135.tithelysetup5.com
DTSTART:20260823T230000Z
DTEND:20260824T020000Z
CLASS:PUBLIC
CREATED:20260420T121330
DESCRIPTION:
LAST-MODIFIED:20260420T121330
LOCATION:Downstairs at WatersEdge
SUMMARY:Students
URL;VALUE=URI:https://watersedge135.tithelysetup5.com/events/students--68/2
 026-08-23
ATTACH;FILENAME=5.jpg;FMTTYPE=image/jpeg:https://dq5pwpg1q8ru0.cloudfront.n
 et/2025/09/29/20/22/22/1e948ed9-59ce-4268-828c-18ba837b9b15/5.jpg
END:VEVENT
END:VCALENDAR
