BEGIN:VCALENDAR
VERSION:2.0
PRODID:icalendar-ruby
CALSCALE:GREGORIAN
METHOD:PUBLISH
BEGIN:VEVENT
DTSTAMP:20260420T173524Z
UID:6-971573@watersedge135.tithelysetup5.com
DTSTART:20260524T143000Z
DTEND:20260524T160000Z
CLASS:PUBLIC
CREATED:20260420T121330
DESCRIPTION:
LAST-MODIFIED:20260420T121330
LOCATION:
SUMMARY:Sunday Morning Worship
URL;VALUE=URI:https://watersedge135.tithelysetup5.com/events/sunday-morning
 -worship/2026-05-24
ATTACH;FILENAME=IMG_1434.jpg;FMTTYPE=image/jpeg:https://dq5pwpg1q8ru0.cloud
 front.net/2024/09/12/20/18/45/bd2c5a9e-3c06-41e4-80d0-797147a408a1/IMG_143
 4.jpg
ATTACH;FILENAME=IMG_1433.jpg;FMTTYPE=image/jpeg:https://dq5pwpg1q8ru0.cloud
 front.net/2024/09/12/20/18/45/053e64bf-f717-4bbf-aba3-95fcdd9a6ed0/IMG_143
 3.jpg
ATTACH;FILENAME=IMG_1449.jpg;FMTTYPE=image/jpeg:https://dq5pwpg1q8ru0.cloud
 front.net/2024/09/12/20/18/46/f4859b21-13f1-43d2-b01a-f967573c3796/IMG_144
 9.jpg
ATTACH;FILENAME=IMG_1454-3.jpg;FMTTYPE=image/jpeg:https://dq5pwpg1q8ru0.clo
 udfront.net/2024/09/12/20/18/46/30d68df7-4512-467d-bd4e-fcf64a9d3a19/IMG_1
 454-3.jpg
ATTACH;FILENAME=IMG_4611.jpg;FMTTYPE=image/jpeg:https://dq5pwpg1q8ru0.cloud
 front.net/2024/09/12/20/18/46/439bd3b2-fb51-47a8-bc39-e6e22bae89be/IMG_461
 1.jpg
ATTACH;FILENAME=IMG_4615.jpg;FMTTYPE=image/jpeg:https://dq5pwpg1q8ru0.cloud
 front.net/2024/09/12/20/18/47/adc5be43-63e4-4dc1-a08f-23eb4cc18155/IMG_461
 5.jpg
ATTACH;FILENAME=IMG_4616.jpg;FMTTYPE=image/jpeg:https://dq5pwpg1q8ru0.cloud
 front.net/2024/09/12/20/18/48/36293586-0509-4ea3-a8d1-c2b43ab043bf/IMG_461
 6.jpg
ATTACH;FILENAME=IMG_4614.jpg;FMTTYPE=image/jpeg:https://dq5pwpg1q8ru0.cloud
 front.net/2024/09/12/20/18/48/7ee4292f-055c-4792-9dbb-f9fc30d9050f/IMG_461
 4.jpg
ATTACH;FILENAME=IMG_1485.jpg;FMTTYPE=image/jpeg:https://dq5pwpg1q8ru0.cloud
 front.net/2024/09/12/20/18/49/3add2125-5a8a-494b-809e-d748db7c08e2/IMG_148
 5.jpg
ATTACH;FILENAME=IMG_1496.jpg;FMTTYPE=image/jpeg:https://dq5pwpg1q8ru0.cloud
 front.net/2024/09/12/20/18/49/5bad1ad9-bd2e-4e7f-9087-68f794625fdb/IMG_149
 6.jpg
ATTACH;FILENAME=IMG_1483.jpg;FMTTYPE=image/jpeg:https://dq5pwpg1q8ru0.cloud
 front.net/2024/09/12/20/18/49/5f0e61f4-0c93-4893-8326-67698e6843f7/IMG_148
 3.jpg
ATTACH;FILENAME=IMG_1444.jpg;FMTTYPE=image/jpeg:https://dq5pwpg1q8ru0.cloud
 front.net/2024/09/12/20/18/50/048d6cde-57ad-4c38-babe-9055a3fc3a73/IMG_144
 4.jpg
END:VEVENT
END:VCALENDAR
